BEGIN:VCALENDAR
VERSION:2.0
PRODID:-//MG Uesslingen - ECPv6.15.20//NONSGML v1.0//EN
CALSCALE:GREGORIAN
METHOD:PUBLISH
X-ORIGINAL-URL:https://mg-uesslingen.ch
X-WR-CALDESC:Veranstaltungen für MG Uesslingen
REFRESH-INTERVAL;VALUE=DURATION:PT1H
X-Robots-Tag:noindex
X-PUBLISHED-TTL:PT1H
BEGIN:VTIMEZONE
TZID:Europe/Zurich
BEGIN:DAYLIGHT
TZOFFSETFROM:+0100
TZOFFSETTO:+0200
TZNAME:CEST
DTSTART:20250330T010000
END:DAYLIGHT
BEGIN:STANDARD
TZOFFSETFROM:+0200
TZOFFSETTO:+0100
TZNAME:CET
DTSTART:20251026T010000
END:STANDARD
BEGIN:DAYLIGHT
TZOFFSETFROM:+0100
TZOFFSETTO:+0200
TZNAME:CEST
DTSTART:20260329T010000
END:DAYLIGHT
BEGIN:STANDARD
TZOFFSETFROM:+0200
TZOFFSETTO:+0100
TZNAME:CET
DTSTART:20261025T010000
END:STANDARD
BEGIN:DAYLIGHT
TZOFFSETFROM:+0100
TZOFFSETTO:+0200
TZNAME:CEST
DTSTART:20270328T010000
END:DAYLIGHT
BEGIN:STANDARD
TZOFFSETFROM:+0200
TZOFFSETTO:+0100
TZNAME:CET
DTSTART:20271031T010000
END:STANDARD
END:VTIMEZONE
BEGIN:VEVENT
DTSTART;TZID=Europe/Zurich:20260630T200000
DTEND;TZID=Europe/Zurich:20260630T220000
DTSTAMP:20260419T174741
CREATED:20260225T091558Z
LAST-MODIFIED:20260225T091558Z
UID:1414-1782849600-1782856800@mg-uesslingen.ch
SUMMARY:Sommerkonzert Buch
DESCRIPTION:
URL:https://mg-uesslingen.ch/event/sommerkonzert-buch/
LOCATION:Thurgau
END:VEVENT
BEGIN:VEVENT
DTSTART;TZID=Europe/Zurich:20260705T170000
DTEND;TZID=Europe/Zurich:20260705T200000
DTSTAMP:20260419T174741
CREATED:20260225T091746Z
LAST-MODIFIED:20260225T091800Z
UID:1416-1783270800-1783281600@mg-uesslingen.ch
SUMMARY:Schützen abholen & Sommerkonzert Uesslingen
DESCRIPTION:Wir begleiten die Schützen von der Landi bis zur Engelschüür musikalisch bei ihrem Einzug. Sie werden dann ihre Resultate des eidg. Schützenfestes bekannt geben. Wir führen anschliessend unser Sommerkonzert durch.
URL:https://mg-uesslingen.ch/event/schuetzen-abholen-sommerkonzert-uesslingen/
LOCATION:Thurgau
END:VEVENT
BEGIN:VEVENT
DTSTART;TZID=Europe/Zurich:20261113T200000
DTEND;TZID=Europe/Zurich:20261113T200000
DTSTAMP:20260419T174741
CREATED:20260225T091921Z
LAST-MODIFIED:20260225T091921Z
UID:1418-1794600000-1794600000@mg-uesslingen.ch
SUMMARY:Unterhaltung
DESCRIPTION:
URL:https://mg-uesslingen.ch/event/unterhaltung/
LOCATION:Thurgau
END:VEVENT
END:VCALENDAR